BEGIN:VCALENDAR
VERSION:2.0
PRODID:-// - ECPv4.9.12//NONSGML v1.0//EN
CALSCALE:GREGORIAN
METHOD:PUBLISH
X-ORIGINAL-URL:http://bauerst.qld.edu.au
X-WR-CALDESC:Events for 
BEGIN:VTIMEZONE
TZID:Australia/Brisbane
BEGIN:STANDARD
TZOFFSETFROM:+1000
TZOFFSETTO:+1000
TZNAME:AEST
DTSTART:20190101T000000
END:STANDARD
END:VTIMEZONE
BEGIN:VEVENT
DTSTART;TZID=Australia/Brisbane:20190815T110000
DTEND;TZID=Australia/Brisbane:20190815T113000
DTSTAMP:20200301T223739
CREATED:20190612T225100Z
LAST-MODIFIED:20190613T012007Z
UID:1801-1565866800-1565868600@bauerst.qld.edu.au
SUMMARY:Sharing culture incursion
DESCRIPTION:Sharing culture incursion – Aboriginal  education through story time\, language\, dance and artifacts. \n
URL:http://bauerst.qld.edu.au/index.php/event/sharing-culture-2/
END:VEVENT
END:VCALENDAR