BEGIN:VCALENDAR
VERSION:2.0
PRODID:-// - ECPv4.9.12//NONSGML v1.0//EN
CALSCALE:GREGORIAN
METHOD:PUBLISH
X-ORIGINAL-URL:http://bauerst.qld.edu.au
X-WR-CALDESC:Events for 
BEGIN:VTIMEZONE
TZID:Australia/Brisbane
BEGIN:STANDARD
TZOFFSETFROM:+1000
TZOFFSETTO:+1000
TZNAME:AEST
DTSTART:20170101T000000
END:STANDARD
END:VTIMEZONE
BEGIN:VEVENT
DTSTART;TZID=Australia/Brisbane:20171128T183000
DTEND;TZID=Australia/Brisbane:20171128T200000
DTSTAMP:20210227T232908
CREATED:20171121T224949Z
LAST-MODIFIED:20171121T224949Z
UID:1666-1511893800-1511899200@bauerst.qld.edu.au
SUMMARY:Preschool Graduation
DESCRIPTION:Pre-Prep Graduation\nTUESDAY 28 NOVEMBER 2017\n6:30PM\nMAIN/MULTI PURPOSE HALL\nSOUTHPORT COMMUNITY CENTRE\n6 LAWSON ST SOUTHPORT \n
URL:http://bauerst.qld.edu.au/index.php/event/preschool-graduation/
CATEGORIES:Special Event
END:VEVENT
END:VCALENDAR