BEGIN:VCALENDAR
VERSION:2.0
PRODID:-// - ECPv4.9.12//NONSGML v1.0//EN
CALSCALE:GREGORIAN
METHOD:PUBLISH
X-ORIGINAL-URL:http://bauerst.qld.edu.au
X-WR-CALDESC:Events for 
BEGIN:VTIMEZONE
TZID:Australia/Brisbane
BEGIN:STANDARD
TZOFFSETFROM:+1000
TZOFFSETTO:+1000
TZNAME:AEST
DTSTART:20190101T000000
END:STANDARD
END:VTIMEZONE
BEGIN:VEVENT
DTSTART;TZID=Australia/Brisbane:20191101T183000
DTEND;TZID=Australia/Brisbane:20191101T200000
DTSTAMP:20200301T222055
CREATED:20190904T052430Z
LAST-MODIFIED:20190904T052430Z
UID:1824-1572633000-1572638400@bauerst.qld.edu.au
SUMMARY:Pre-prep Graduation
DESCRIPTION:Farewell celebration for class of 2019 – photo booth\, cake and refreshments. \n
URL:http://bauerst.qld.edu.au/index.php/event/pre-prep-graduation/
END:VEVENT
END:VCALENDAR