BEGIN:VCALENDAR
VERSION:2.0
PRODID:-// - ECPv4.9.12//NONSGML v1.0//EN
CALSCALE:GREGORIAN
METHOD:PUBLISH
X-ORIGINAL-URL:http://bauerst.qld.edu.au
X-WR-CALDESC:Events for 
BEGIN:VTIMEZONE
TZID:Australia/Brisbane
BEGIN:STANDARD
TZOFFSETFROM:+1000
TZOFFSETTO:+1000
TZNAME:AEST
DTSTART:20170101T000000
END:STANDARD
END:VTIMEZONE
BEGIN:VEVENT
DTSTART;TZID=Australia/Brisbane:20170712T100000
DTEND;TZID=Australia/Brisbane:20170712T110000
DTSTAMP:20200301T222757
CREATED:20170629T051704Z
LAST-MODIFIED:20170629T051921Z
UID:1598-1499853600-1499857200@bauerst.qld.edu.au
SUMMARY:Ocean Life education show
DESCRIPTION:Ocean Life Education will be visiting our service today \nThe toddlers and J Kindy session is at 10am \nThe Senior Kindy and Prepreps  is at 10.30am \nThe program is an interactive touch and learn session with live marine creatures to touch as well as shells and pictures to look at. \n
URL:http://bauerst.qld.edu.au/index.php/event/ocean-life-education-show/
CATEGORIES:Special Event
END:VEVENT
END:VCALENDAR