BEGIN:VCALENDAR
VERSION:2.0
PRODID:-// - ECPv4.9.12//NONSGML v1.0//EN
CALSCALE:GREGORIAN
METHOD:PUBLISH
X-ORIGINAL-URL:http://bauerst.qld.edu.au
X-WR-CALDESC:Events for 
BEGIN:VTIMEZONE
TZID:Australia/Brisbane
BEGIN:STANDARD
TZOFFSETFROM:+1000
TZOFFSETTO:+1000
TZNAME:AEST
DTSTART:20190101T000000
END:STANDARD
END:VTIMEZONE
BEGIN:VEVENT
DTSTART;VALUE=DATE:20190804
DTEND;VALUE=DATE:20190805
DTSTAMP:20210227T234322
CREATED:20190612T230042Z
LAST-MODIFIED:20190612T230042Z
UID:1807-1564876800-1564963199@bauerst.qld.edu.au
SUMMARY:National Aboriginal and Torres Strait Islander Children's Day
DESCRIPTION:Children’s day theme\, We Play\, We Learn\, We Belong \n
URL:http://bauerst.qld.edu.au/index.php/event/national-aboriginal-and-torres-strait-islander-childrens-day/
END:VEVENT
END:VCALENDAR