BEGIN:VCALENDAR
VERSION:2.0
PRODID:-// - ECPv4.9.12//NONSGML v1.0//EN
CALSCALE:GREGORIAN
METHOD:PUBLISH
X-ORIGINAL-URL:http://bauerst.qld.edu.au
X-WR-CALDESC:Events for 
BEGIN:VTIMEZONE
TZID:Australia/Brisbane
BEGIN:STANDARD
TZOFFSETFROM:+1000
TZOFFSETTO:+1000
TZNAME:AEST
DTSTART:20190101T000000
END:STANDARD
END:VTIMEZONE
BEGIN:VEVENT
DTSTART;TZID=Australia/Brisbane:20190506T073000
DTEND;TZID=Australia/Brisbane:20190506T173000
DTSTAMP:20210227T235857
CREATED:20190417T051812Z
LAST-MODIFIED:20190417T051812Z
UID:1790-1557127800-1557163800@bauerst.qld.edu.au
SUMMARY:Labour Day Public holiday
DESCRIPTION:The centre will be closed today \n
URL:http://bauerst.qld.edu.au/index.php/event/labour-day-public-holiday/
END:VEVENT
END:VCALENDAR