BEGIN:VCALENDAR
VERSION:2.0
PRODID:-// - ECPv4.9.12//NONSGML v1.0//EN
CALSCALE:GREGORIAN
METHOD:PUBLISH
X-ORIGINAL-URL:http://bauerst.qld.edu.au
X-WR-CALDESC:Events for 
BEGIN:VTIMEZONE
TZID:Australia/Brisbane
BEGIN:STANDARD
TZOFFSETFROM:+1000
TZOFFSETTO:+1000
TZNAME:AEST
DTSTART:20190101T000000
END:STANDARD
END:VTIMEZONE
BEGIN:VEVENT
DTSTART;VALUE=DATE:20190815
DTEND;VALUE=DATE:20190826
DTSTAMP:20210227T234351
CREATED:20190613T004539Z
LAST-MODIFIED:20190613T004539Z
UID:1809-1565827200-1566777599@bauerst.qld.edu.au
SUMMARY:Keep Australia Beautiful
DESCRIPTION:Held each year to raise awareness about the simple things we can all do in our daily lives to reduce our impact on the environment. \n
URL:http://bauerst.qld.edu.au/index.php/event/keep-australia-beautiful/
END:VEVENT
END:VCALENDAR