BEGIN:VCALENDAR
VERSION:2.0
PRODID:-// - ECPv4.9.12//NONSGML v1.0//EN
CALSCALE:GREGORIAN
METHOD:PUBLISH
X-ORIGINAL-URL:http://bauerst.qld.edu.au
X-WR-CALDESC:Events for 
BEGIN:VTIMEZONE
TZID:Australia/Brisbane
BEGIN:STANDARD
TZOFFSETFROM:+1000
TZOFFSETTO:+1000
TZNAME:AEST
DTSTART:20190101T000000
END:STANDARD
END:VTIMEZONE
BEGIN:VEVENT
DTSTART;VALUE=DATE:20190904
DTEND;VALUE=DATE:20190905
DTSTAMP:20210227T232709
CREATED:20190904T044555Z
LAST-MODIFIED:20190904T044555Z
UID:1820-1567555200-1567641599@bauerst.qld.edu.au
SUMMARY:Educators Day
DESCRIPTION:Educators day recognises and celebrates the work of educators in early learning services. \n  \n
URL:http://bauerst.qld.edu.au/index.php/event/educators-day-3/
END:VEVENT
END:VCALENDAR