BEGIN:VCALENDAR
VERSION:2.0
PRODID:-// - ECPv4.9.12//NONSGML v1.0//EN
CALSCALE:GREGORIAN
METHOD:PUBLISH
X-ORIGINAL-URL:http://bauerst.qld.edu.au
X-WR-CALDESC:Events for 
BEGIN:VTIMEZONE
TZID:Australia/Brisbane
BEGIN:STANDARD
TZOFFSETFROM:+1000
TZOFFSETTO:+1000
TZNAME:AEST
DTSTART:20180101T000000
END:STANDARD
END:VTIMEZONE
BEGIN:VEVENT
DTSTART;TZID=Australia/Brisbane:20180315T100000
DTEND;TZID=Australia/Brisbane:20180315T110000
DTSTAMP:20210227T235442
CREATED:20180208T032026Z
LAST-MODIFIED:20180208T032026Z
UID:1692-1521108000-1521111600@bauerst.qld.edu.au
SUMMARY:Drumbeat-Mark Stewart
DESCRIPTION:Teaching children the value of music and rhythm with cowbells\, castanets\, bongos and anything else Mark can find. \n
URL:http://bauerst.qld.edu.au/index.php/event/drumbeat-mark-stewart/
END:VEVENT
END:VCALENDAR