BEGIN:VCALENDAR
VERSION:2.0
PRODID:-// - ECPv4.9.12//NONSGML v1.0//EN
CALSCALE:GREGORIAN
METHOD:PUBLISH
X-ORIGINAL-URL:http://bauerst.qld.edu.au
X-WR-CALDESC:Events for 
BEGIN:VTIMEZONE
TZID:Australia/Brisbane
BEGIN:STANDARD
TZOFFSETFROM:+1000
TZOFFSETTO:+1000
TZNAME:AEST
DTSTART:20190101T000000
END:STANDARD
END:VTIMEZONE
BEGIN:VEVENT
DTSTART;TZID=Australia/Brisbane:20191010T093000
DTEND;TZID=Australia/Brisbane:20191010T103000
DTSTAMP:20200301T222610
CREATED:20190904T051203Z
LAST-MODIFIED:20190904T051203Z
UID:1822-1570699800-1570703400@bauerst.qld.edu.au
SUMMARY:Ananse Stories
DESCRIPTION:Using the tradition of the talking drum and other percussive instruments\, the children are introduced to the simplicity of Ghanaian stories. \n
URL:http://bauerst.qld.edu.au/index.php/event/ananse-stories-2/
END:VEVENT
END:VCALENDAR