BEGIN:VCALENDAR
VERSION:2.0
PRODID:-// - ECPv4.9.12//NONSGML v1.0//EN
CALSCALE:GREGORIAN
METHOD:PUBLISH
X-ORIGINAL-URL:http://bauerst.qld.edu.au
X-WR-CALDESC:Events for 
BEGIN:VTIMEZONE
TZID:Australia/Brisbane
BEGIN:STANDARD
TZOFFSETFROM:+1000
TZOFFSETTO:+1000
TZNAME:AEST
DTSTART:20190101T000000
END:STANDARD
END:VTIMEZONE
BEGIN:VEVENT
DTSTART;VALUE=DATE:20191224
DTEND;VALUE=DATE:20200106
DTSTAMP:20200301T220939
CREATED:20191114T033113Z
LAST-MODIFIED:20191114T033358Z
UID:1836-1577145600-1578268799@bauerst.qld.edu.au
SUMMARY:Centre Closed
DESCRIPTION:As from today the centre will be closed for the Christmas Holidays and reopen on Monday 6/1/2020. \nPeace\, Joy and Love to all. \n
URL:http://bauerst.qld.edu.au/index.php/event/1836/
END:VEVENT
END:VCALENDAR